BEGIN:VCALENDAR
VERSION:2.0
PRODID: -//Q4 Inc.//EN
METHOD:PUBLISH
BEGIN:VTIMEZONE
TZID:America/New_York
X-LIC-LOCATION:America/New_York
BEGIN:DAYLIGHT
TZOFFSETFROM:-0500
TZOFFSETTO:-0400
TZNAME:EDT
DTSTART:19700308T020000
RRULE:FREQ=YEARLY;BYMONTH=3;BYDAY=2SU
END:DAYLIGHT
BEGIN:STANDARD
TZOFFSETFROM:-0400
TZOFFSETTO:-0500
TZNAME:EST
DTSTART:19701101T020000
RRULE:FREQ=YEARLY;BYMONTH=11;BYDAY=1SU
END:STANDARD
END:VTIMEZONE
BEGIN:VEVENT
ORGANIZER:MAILTO:noreply@pseg.com
DTSTART;TZID="America/New_York":20210927T120000
DTEND;TZID="America/New_York":20210927T143000
LOCATION:
UID:02fa217c-a67c-43da-8368-ae12d4c68801
DTSTAMP:20260422T012849
SUMMARY:2021 Investor Conference
DESCRIPTION: View More Information: https://investor.pseg.com/investor-news-and-events/events-calendar/event-details/2021/2021-Investor-Conference---Introducing-a-Utility-and-ESG-focused-PSEG/default.aspx
URL;VALUE=URI:https://investor.pseg.com/investor-news-and-events/events-calendar/event-details/2021/2021-Investor-Conference---Introducing-a-Utility-and-ESG-focused-PSEG/default.aspx
PRIORITY:5
CLASS:PUBLIC
END:VEVENT
END:VCALENDAR
